BEGIN:VCALENDAR
PRODID:-//hacksw/handcal//NONSGML v1.0//EN
VERSION:2.0
METHOD:PUBLISH
BEGIN:VEVENT
DTSTART:20140916T213000Z
DTEND:20140917T000000Z
LOCATION:Town Center City Club, 222 Central Park Avenue, Suite 230, Virginia Beach VA 23462 
UID:1073020140916T213000ZMembership Meeting - Family Wealth: A Hard Look at the "Softer" Issues
DTSTAMP:20260422T044400Z
DESCRIPTION:\nThank You to our Sponsors:\n \nCocktail Hour\n \n\n \nDinner\n \n\n
SUMMARY:Membership Meeting - Family Wealth: A Hard Look at the "Softer" Issues - Hampton Roads Estate Planning Council 
PRIORITY:3
BEGIN:VALARM
TRIGGER:PT18H
ACTION:DISPLAY
DESCRIPTION:Reminder
END:VALARM
END:VEVENT
END:VCALENDAR